BEGIN:VCALENDAR
VERSION:2.0
PRODID:-//Friends of the Australian National Botanic Gardens - ECPv6.15.20//NONSGML v1.0//EN
CALSCALE:GREGORIAN
METHOD:PUBLISH
X-WR-CALNAME:Friends of the Australian National Botanic Gardens
X-ORIGINAL-URL:https://friendsanbg.org.au
X-WR-CALDESC:Events for Friends of the Australian National Botanic Gardens
REFRESH-INTERVAL;VALUE=DURATION:PT1H
X-Robots-Tag:noindex
X-PUBLISHED-TTL:PT1H
BEGIN:VTIMEZONE
TZID:Australia/Sydney
BEGIN:STANDARD
TZOFFSETFROM:+1100
TZOFFSETTO:+1000
TZNAME:AEST
DTSTART:20250405T160000
END:STANDARD
BEGIN:DAYLIGHT
TZOFFSETFROM:+1000
TZOFFSETTO:+1100
TZNAME:AEDT
DTSTART:20251004T160000
END:DAYLIGHT
BEGIN:STANDARD
TZOFFSETFROM:+1100
TZOFFSETTO:+1000
TZNAME:AEST
DTSTART:20260404T160000
END:STANDARD
BEGIN:DAYLIGHT
TZOFFSETFROM:+1000
TZOFFSETTO:+1100
TZNAME:AEDT
DTSTART:20261003T160000
END:DAYLIGHT
BEGIN:STANDARD
TZOFFSETFROM:+1100
TZOFFSETTO:+1000
TZNAME:AEST
DTSTART:20270403T160000
END:STANDARD
BEGIN:DAYLIGHT
TZOFFSETFROM:+1000
TZOFFSETTO:+1100
TZNAME:AEDT
DTSTART:20271002T160000
END:DAYLIGHT
END:VTIMEZONE
BEGIN:VEVENT
DTSTART;TZID=Australia/Sydney:20260501T100000
DTEND;TZID=Australia/Sydney:20260523T120000
DTSTAMP:20260421T072640
CREATED:20260419T025353Z
LAST-MODIFIED:20260419T025353Z
UID:10001473-1777629600-1779537600@friendsanbg.org.au
SUMMARY:Australian Parliament House Autumn Courtyard Tours
DESCRIPTION:Led by one of our knowledgeable guides\, this walking tour offers a rare opportunity to explore courtyards not usually open to the public and view the renowned Budget Tree. This autumn\, discover Parliament House not only as the home of Australia’s democracy\, but as a landmark of landscape architecture and design. \nTour schedule\nOn Fridays and Saturdays from 1 to 23 May at 10:00 am\, 11:00 am and 12:00 pm. \nAccessibility friendly tours\nOn Friday 8 May and Friday 22 May at 10am. Please book via the Accessible Tour accessible tour link. For further details regarding accessibility at Parliament House\, please contact us on 02 6277 5399. \nIdentification requirements\nAll participants must present valid photo identification. Without photo ID\, a private areas pass cannot be issued and entry to the tour will be denied. \nWhat to expect\nThis is a walking tour that travels through internal spaces and outdoor courtyards. Participants may encounter uneven surfaces and varying weather conditions. Comfortable footwear and weather-appropriate clothing are recommended. \nPlease arrive at Parliament House 10 minutes before your tour\, as the event will begin on time. \nOptional refreshment package\nYou can add a refreshment package to your ticket\, which includes a freshly baked scone and a hot beverage of your choice from Queen’s Terrace Café. \nBookings\nBookings are essential and can be made online at the Parliament House website
URL:https://friendsanbg.org.au/event/australian-parliament-house-autumn-courtyard-tours/
LOCATION:Australian Parliament House\, Parliament Drive\, Canberra\, ACT\, Australia
CATEGORIES:Guided walk
ATTACH;FMTTYPE=image/jpeg:https://friendsanbg.org.au/wp-content/uploads/2026/04/Autumn-at-Parliament-House-e1776464749785.jpg
END:VEVENT
BEGIN:VEVENT
DTSTART;TZID=Australia/Sydney:20260520T190000
DTEND;TZID=Australia/Sydney:20260520T200000
DTSTAMP:20260421T072640
CREATED:20260328T233043Z
LAST-MODIFIED:20260328T233043Z
UID:10001458-1779303600-1779307200@friendsanbg.org.au
SUMMARY:Masterclass - Creating a Wildlife Haven: The Must-Know Essentials
DESCRIPTION:Want more birds\, bees and butterflies in your garden? Join Claire Bickle to learn easy\, practical ways to support local wildlife. Discover how to choose the right plants\, create shelter and water\, and make your garden a safe haven—starting this winter. Perfect for beginners or anyone wanting to make a real difference. \nBook your online Zoom session here: https://weteachme.com/classes/1047138 \nAre you eager to boost local biodiversity but feeling overwhelmed by all the sheer volume of information and advice? Perhaps you want to attract butterflies\, bees\, birds or dragonflies to your garden? Did you know that winter is an important time to support wildlife and support the natural ecological balance of your garden ready for spring. So lets help you get started this winter… \nJoin this one-hour Master Class with Claire Bickle and walk away with the essentials—and the networks—that will help you make a real impact. \nIn this session\, Claire will guide you through the importance of: \n\nUnderstanding your climate\nGetting to know your soil and garden aspects and how to make use of verges or nearby public spaces\nSimple design basics and practical ideas to get you started\nIdentifying your “target audience”—the insects\, marsupials\, birds\, reptiles\, frogs\, bats and more that may call your garden home\nChoosing the right plants and layering them from ground covers to grasses to trees\nDifferent water sources and why they matter for different species\nCreating shelters\, especially for insects like bees and dragonflies\nWhy even small actions can create wildlife stepping stones and nature corridors in urban areas\nBuilding community connections: where to next—catchment groups\, wildlife societies\, native plant clubs\, and more\nWays to stay informed and keep learning through reading and connecting with others\n\nIf you want to support nature in your neighbourhood and feel confident doing it\, this class is the perfect place to start. \nAll sessions are recorded and those booked in will receive the recording link which is active for two weeks. Friends of SGA receive a 15% discount on Master Class full price tickets. You can become a Friend of SGA here. Green Garden Professional (GGPs) receive a 30% discount.
URL:https://friendsanbg.org.au/event/masterclass-creating-a-wildlife-haven-the-must-know-essentials/
LOCATION:Online Zoom session\, Australia
CATEGORIES:Lecture
ATTACH;FMTTYPE=image/png:https://friendsanbg.org.au/wp-content/uploads/2026/03/SustainableAustralia2_360wide.png
END:VEVENT
END:VCALENDAR