BEGIN:VCALENDAR
VERSION:2.0
PRODID:-//Friends of the Australian National Botanic Gardens - ECPv6.15.20//NONSGML v1.0//EN
CALSCALE:GREGORIAN
METHOD:PUBLISH
X-ORIGINAL-URL:https://friendsanbg.org.au
X-WR-CALDESC:Events for Friends of the Australian National Botanic Gardens
REFRESH-INTERVAL;VALUE=DURATION:PT1H
X-Robots-Tag:noindex
X-PUBLISHED-TTL:PT1H
BEGIN:VTIMEZONE
TZID:Australia/Sydney
BEGIN:STANDARD
TZOFFSETFROM:+1100
TZOFFSETTO:+1000
TZNAME:AEST
DTSTART:20240406T160000
END:STANDARD
BEGIN:DAYLIGHT
TZOFFSETFROM:+1000
TZOFFSETTO:+1100
TZNAME:AEDT
DTSTART:20241005T160000
END:DAYLIGHT
BEGIN:STANDARD
TZOFFSETFROM:+1100
TZOFFSETTO:+1000
TZNAME:AEST
DTSTART:20250405T160000
END:STANDARD
BEGIN:DAYLIGHT
TZOFFSETFROM:+1000
TZOFFSETTO:+1100
TZNAME:AEDT
DTSTART:20251004T160000
END:DAYLIGHT
BEGIN:STANDARD
TZOFFSETFROM:+1100
TZOFFSETTO:+1000
TZNAME:AEST
DTSTART:20260404T160000
END:STANDARD
BEGIN:DAYLIGHT
TZOFFSETFROM:+1000
TZOFFSETTO:+1100
TZNAME:AEDT
DTSTART:20261003T160000
END:DAYLIGHT
END:VTIMEZONE
BEGIN:VEVENT
DTSTART;TZID=Australia/Sydney:20251016T123000
DTEND;TZID=Australia/Sydney:20251016T133000
DTSTAMP:20260425T014127
CREATED:20260302T013305Z
LAST-MODIFIED:20260302T013306Z
UID:10001401-1760617800-1760621400@friendsanbg.org.au
SUMMARY:Tasha James – ‘Endemics on the Edge: The Challenges of Conserving Mt Imlay Species’ (Don Beer Memorial Talk)
DESCRIPTION:Tasha\, a PhD student at University of Canberra and a holder of a Friends ANBG scholarship\, is asking will Hibbertia circinata\, Boronia imlayensis\, and Eucalyptus imlayensis provide different insights into threatened species conservation on Mt Imlay and more broadly for threatened-species conservation? \nAbstract \nMt Imlay (NSW) is home to several endangered endemic species which are limited to a small area on the summit and are subject to a combination of threatening processes including climate change\, fire\, and Phytophthora dieback.\nThis project has focused on three species: Hibbertia circinata\, Boronia imlayensis\, and Eucalyptus imlayensis. Tasha is researching each species to establish whether it would persist in situ\, or require and/or rely upon ex situ efforts and populations to continue.\nWe used multiple data sources and methods to understand the species dynamics. Almost all the data for this project has been collected\, and results are beginning to come together. However\, as is often the case with ecological work\, they are leading to more questions! \nBiography \nTasha James is the holder of the Don Beer Memorial scholarship from the Friends of the ANBG and a PhD student at the University of Canberra. She researches endangered plant ecology and genetics with a focus on rare and endangered species. She collects data and samples from field surveys\, drone surveying\, Herbarium records and living collections to incorporate into a variety of analyses across population genetics\, disease dynamics\, and the influence of biophysical factors. Tasha collaborates with the Australian National Botanic Gardens and several Herbaria\, with the aim to provide more insight into the unique dynamics of isolated endemic plants to increase the ability for conserving these often-fragile communities. \nBookings open on 12 September at https://www.trybooking.com/DDEFP \nBooking\nLunchtime talks are held at 12.30 pm every Thursday from February to November. Talks last for 1 hour. We welcome donations by gold coins\, notes\, or electronically. The Friends use donations received at each talk to support Gardens’ programs and development and we thank all those who have donated. \nUnless otherwise indicated\, talks are held in the ANBG Theatrette. \nIt is a good idea to reserve a seat at the talks that you wish to attend; talks may be booked out very quickly.  Bookings can be made from about 30 days in advance until the night before the talk or until seating limits are reached. \nThe Friends of the ANBG thank the speakers who volunteer their time and talents to further the knowledge of all attending events in the Gardens. Many summaries or PowerPoint presentations of Thursday talks are available to Friends at the ANBG library. Please direct queries about the talks to the Thursday Talks Team: email talks@friendsanbg.org.au.
URL:https://friendsanbg.org.au/event/tasha-james-endemics-on-the-edge-the-challenges-of-conserving-mt-imlay-species-don-beer-memorial-talk/
LOCATION:ANBG Theatrette\, Clunies Ross Street Acton ACT 2601\, Canberra\, ACT\, 2601\, Australia
CATEGORIES:Thursday Talks
ATTACH;FMTTYPE=image/jpeg:https://friendsanbg.org.au/wp-content/uploads/2026/03/DNA-extraction-Mel-Herbarium-March-2025-Laura-Simmons-scaled-e1751077741512.jpeg
END:VEVENT
END:VCALENDAR