BEGIN:VCALENDAR
VERSION:2.0
PRODID:-//Friends of the Australian National Botanic Gardens - ECPv6.15.20//NONSGML v1.0//EN
CALSCALE:GREGORIAN
METHOD:PUBLISH
X-WR-CALNAME:Friends of the Australian National Botanic Gardens
X-ORIGINAL-URL:https://friendsanbg.org.au
X-WR-CALDESC:Events for Friends of the Australian National Botanic Gardens
REFRESH-INTERVAL;VALUE=DURATION:PT1H
X-Robots-Tag:noindex
X-PUBLISHED-TTL:PT1H
BEGIN:VTIMEZONE
TZID:Australia/Sydney
BEGIN:STANDARD
TZOFFSETFROM:+1100
TZOFFSETTO:+1000
TZNAME:AEST
DTSTART:20250405T160000
END:STANDARD
BEGIN:DAYLIGHT
TZOFFSETFROM:+1000
TZOFFSETTO:+1100
TZNAME:AEDT
DTSTART:20251004T160000
END:DAYLIGHT
BEGIN:STANDARD
TZOFFSETFROM:+1100
TZOFFSETTO:+1000
TZNAME:AEST
DTSTART:20260404T160000
END:STANDARD
BEGIN:DAYLIGHT
TZOFFSETFROM:+1000
TZOFFSETTO:+1100
TZNAME:AEDT
DTSTART:20261003T160000
END:DAYLIGHT
BEGIN:STANDARD
TZOFFSETFROM:+1100
TZOFFSETTO:+1000
TZNAME:AEST
DTSTART:20270403T160000
END:STANDARD
BEGIN:DAYLIGHT
TZOFFSETFROM:+1000
TZOFFSETTO:+1100
TZNAME:AEDT
DTSTART:20271002T160000
END:DAYLIGHT
END:VTIMEZONE
BEGIN:VEVENT
DTSTART;TZID=Australia/Sydney:20260212T123000
DTEND;TZID=Australia/Sydney:20260212T133000
DTSTAMP:20260423T143507
CREATED:20260302T013511Z
LAST-MODIFIED:20260315T094948Z
UID:10001422-1770899400-1770903000@friendsanbg.org.au
SUMMARY:'Frost and drought in a native garden' - CHANGE OF SPEAKER
DESCRIPTION:Dr Ben Walcott will speak in the place of the scheduled speaker\, Dr Roger Farrow. His topic is ‘Frost and drought in a native garden’ – increasingly relevant to everyone with an interest in how our unstable weather patterns will affect us and our plantings. \nBiography\nThe Walcotts moved from the USA to Canberra in 2003 and soon became friends of the ANBG. They have developed their own large native garden in Red Hill\, drawing on garden experiences both locally and overseas. \nBooking link: https://www.trybooking.com/DHLQC
URL:https://friendsanbg.org.au/event/roger-farrow-back-from-the-brink-or-a-resilient-survivor-the-case-of-keys-matchstick-grasshopper-keyacris-scurra/
LOCATION:ANBG Theatrette\, Clunies Ross Street Acton ACT 2601\, Canberra\, ACT\, 2601\, Australia
CATEGORIES:Thursday Talks
ATTACH;FMTTYPE=image/jpeg:https://friendsanbg.org.au/wp-content/uploads/2023/10/Walcott%20Correas%20cyprus%20Feb%2021%20640x427.jpg
END:VEVENT
END:VCALENDAR