BEGIN:VCALENDAR
VERSION:2.0
PRODID:-//Friends of the Australian National Botanic Gardens - ECPv6.15.20//NONSGML v1.0//EN
CALSCALE:GREGORIAN
METHOD:PUBLISH
X-ORIGINAL-URL:https://friendsanbg.org.au
X-WR-CALDESC:Events for Friends of the Australian National Botanic Gardens
REFRESH-INTERVAL;VALUE=DURATION:PT1H
X-Robots-Tag:noindex
X-PUBLISHED-TTL:PT1H
BEGIN:VTIMEZONE
TZID:Australia/Sydney
BEGIN:STANDARD
TZOFFSETFROM:+1100
TZOFFSETTO:+1000
TZNAME:AEST
DTSTART:20250405T160000
END:STANDARD
BEGIN:DAYLIGHT
TZOFFSETFROM:+1000
TZOFFSETTO:+1100
TZNAME:AEDT
DTSTART:20251004T160000
END:DAYLIGHT
BEGIN:STANDARD
TZOFFSETFROM:+1100
TZOFFSETTO:+1000
TZNAME:AEST
DTSTART:20260404T160000
END:STANDARD
BEGIN:DAYLIGHT
TZOFFSETFROM:+1000
TZOFFSETTO:+1100
TZNAME:AEDT
DTSTART:20261003T160000
END:DAYLIGHT
BEGIN:STANDARD
TZOFFSETFROM:+1100
TZOFFSETTO:+1000
TZNAME:AEST
DTSTART:20270403T160000
END:STANDARD
BEGIN:DAYLIGHT
TZOFFSETFROM:+1000
TZOFFSETTO:+1100
TZNAME:AEDT
DTSTART:20271002T160000
END:DAYLIGHT
END:VTIMEZONE
BEGIN:VEVENT
DTSTART;TZID=Australia/Sydney:20260319T123000
DTEND;TZID=Australia/Sydney:20260319T133000
DTSTAMP:20260421T055939
CREATED:20260302T013650Z
LAST-MODIFIED:20260322T014524Z
UID:10001430-1773923400-1773927000@friendsanbg.org.au
SUMMARY:Don Fletcher 'Goannas in the Canberra region and what is needed to conserve and restore them'
DESCRIPTION:Don will provide an introduction to goannas\, particularly the local species.  He’ll look at what local research is underway and what we need to do to conserve goannas for the future. \nBiography\nDon Fletcher is a retired ecologist leading the ‘National Parks Association Goanna Project’ which is a citizen science investigation of local goanna species\, mainly Rosenberg’s Goanna (Varanus rosenbergi)\, which is sometimes called the Heath Monitor. \nBooking Link: https://www.trybooking.com/DJUMO \nBooking\nLunchtime talks are held at 12.30 pm every Thursday from February to November. Talks last for 1 hour. We welcome donations by gold coins\, notes\, or electronically. The Friends use donations received at each talk to support Gardens’ programs and development and we thank all those who have donated. \nUnless otherwise indicated\, talks are held in the ANBG Theatrette. \nIt is a good idea to reserve a seat at the talks that you wish to attend; talks may be booked out very quickly.  Bookings can be made from about 30 days in advance until the night before the talk or until seating limits are reached. \nThe Friends of the ANBG thank the speakers who volunteer their time and talents to further the knowledge of all attending events in the Gardens. Many summaries or PowerPoint presentations of Thursday talks are available to Friends at the ANBG library. Please direct queries about the talks to the Thursday Talks Team: email talks@friendsanbg.org.au.
URL:https://friendsanbg.org.au/event/kristie-gould-conserving-canberra-healing-country-through-restoration/
LOCATION:ANBG Theatrette\, Clunies Ross Street Acton ACT 2601\, Canberra\, ACT\, 2601\, Australia
CATEGORIES:Thursday Talks
ATTACH;FMTTYPE=image/jpeg:https://friendsanbg.org.au/wp-content/uploads/2026/03/Naas-goanna-IMG_7672-rdcd-scaled.jpg
END:VEVENT
END:VCALENDAR