BEGIN:VCALENDAR
VERSION:2.0
PRODID:-//Friends of the Australian National Botanic Gardens - ECPv6.15.20//NONSGML v1.0//EN
CALSCALE:GREGORIAN
METHOD:PUBLISH
X-WR-CALNAME:Friends of the Australian National Botanic Gardens
X-ORIGINAL-URL:https://friendsanbg.org.au
X-WR-CALDESC:Events for Friends of the Australian National Botanic Gardens
REFRESH-INTERVAL;VALUE=DURATION:PT1H
X-Robots-Tag:noindex
X-PUBLISHED-TTL:PT1H
BEGIN:VTIMEZONE
TZID:Australia/Sydney
BEGIN:STANDARD
TZOFFSETFROM:+1100
TZOFFSETTO:+1000
TZNAME:AEST
DTSTART:20250405T160000
END:STANDARD
BEGIN:DAYLIGHT
TZOFFSETFROM:+1000
TZOFFSETTO:+1100
TZNAME:AEDT
DTSTART:20251004T160000
END:DAYLIGHT
BEGIN:STANDARD
TZOFFSETFROM:+1100
TZOFFSETTO:+1000
TZNAME:AEST
DTSTART:20260404T160000
END:STANDARD
BEGIN:DAYLIGHT
TZOFFSETFROM:+1000
TZOFFSETTO:+1100
TZNAME:AEDT
DTSTART:20261003T160000
END:DAYLIGHT
BEGIN:STANDARD
TZOFFSETFROM:+1100
TZOFFSETTO:+1000
TZNAME:AEST
DTSTART:20270403T160000
END:STANDARD
BEGIN:DAYLIGHT
TZOFFSETFROM:+1000
TZOFFSETTO:+1100
TZNAME:AEDT
DTSTART:20271002T160000
END:DAYLIGHT
END:VTIMEZONE
BEGIN:VEVENT
DTSTART;TZID=Australia/Sydney:20260314T090000
DTEND;TZID=Australia/Sydney:20260314T113000
DTSTAMP:20260424T011839
CREATED:20260302T013605Z
LAST-MODIFIED:20260315T042655Z
UID:10001429-1773478800-1773487800@friendsanbg.org.au
SUMMARY:Growing Friends Autumn 2026 Native Plant Sale
DESCRIPTION:Save the date – it’s happening on Saturday\, 14 March 2026 in the Banksia Centre car park. The sale runs from 9:00-11.30 am but typically sells out by 10.00 am. Don’t be late! \nPlants are generally $6 or $10 per pot (unless otherwise indicated) and purchase is by card only. \nWith over 1000 plants for sale\, and about a hundred native species and cultivars\, there is a plant for every spot in your garden. We have old favourites like Correa ‘Dusky Bells’ and ‘Lemon Twist’\, and the ever-popular yellow Straw Flower (Xerochrysum bracteatum). \nOther popular plants include Brachyscomes\, Banksias\, Callistemons\, Correas\, Croweas\, Grevilleas\, Hakeas\, Leptospermums\, Pimeleas\, Prostantheras\, Telopeas\, and Westringias. Those looking for ACT plants will be tempted by the Alpine Daisy Bush (Olearia algida) and the dainty Chamomile Sunray (Rhodanthe anthemoides). \nThese plants grow in Canberra’s challenging climate of low rainfall\, hot summers and frosty winters. Growing these natives is one of the best ways to provide a better environment for local wildlife\, especially for birds and insects. See the plant description list (PDF\, 612 KB). \nPlants are propagated by the Growing Friends from cuttings or seeds sourced within the ANBG with the support of ANBG staff. All proceeds from the sale go to the Friends to support the Gardens. \nProspective buyers are encouraged to bring their own carry bags and boxes. \nGrowers from the Australian Native Plants Society Canberra will be holding a separate sale on Saturday 21 March in the Southern car park.
URL:https://friendsanbg.org.au/event/growing-friends-autumn-2026-native-plant-sale/
LOCATION:Banksia Centre Car Park\, Australian National Botanic Gardens\, Canberra\, Australian Capital Territory\, Australia
CATEGORIES:Plant Sale
ATTACH;FMTTYPE=image/jpeg:https://friendsanbg.org.au/wp-content/uploads/2026/03/Telopea_speciosissima.jpg
END:VEVENT
END:VCALENDAR