BEGIN:VCALENDAR
VERSION:2.0
PRODID:-//Friends of the Australian National Botanic Gardens - ECPv6.15.20//NONSGML v1.0//EN
CALSCALE:GREGORIAN
METHOD:PUBLISH
X-WR-CALNAME:Friends of the Australian National Botanic Gardens
X-ORIGINAL-URL:https://friendsanbg.org.au
X-WR-CALDESC:Events for Friends of the Australian National Botanic Gardens
REFRESH-INTERVAL;VALUE=DURATION:PT1H
X-Robots-Tag:noindex
X-PUBLISHED-TTL:PT1H
BEGIN:VTIMEZONE
TZID:Australia/Sydney
BEGIN:STANDARD
TZOFFSETFROM:+1100
TZOFFSETTO:+1000
TZNAME:AEST
DTSTART:20250405T160000
END:STANDARD
BEGIN:DAYLIGHT
TZOFFSETFROM:+1000
TZOFFSETTO:+1100
TZNAME:AEDT
DTSTART:20251004T160000
END:DAYLIGHT
BEGIN:STANDARD
TZOFFSETFROM:+1100
TZOFFSETTO:+1000
TZNAME:AEST
DTSTART:20260404T160000
END:STANDARD
BEGIN:DAYLIGHT
TZOFFSETFROM:+1000
TZOFFSETTO:+1100
TZNAME:AEDT
DTSTART:20261003T160000
END:DAYLIGHT
BEGIN:STANDARD
TZOFFSETFROM:+1100
TZOFFSETTO:+1000
TZNAME:AEST
DTSTART:20270403T160000
END:STANDARD
BEGIN:DAYLIGHT
TZOFFSETFROM:+1000
TZOFFSETTO:+1100
TZNAME:AEDT
DTSTART:20271002T160000
END:DAYLIGHT
END:VTIMEZONE
BEGIN:VEVENT
DTSTART;TZID=Australia/Sydney:20260103T083000
DTEND;TZID=Australia/Sydney:20260103T113000
DTSTAMP:20260421T064932
CREATED:20260302T013442Z
LAST-MODIFIED:20260302T013443Z
UID:10001415-1767429000-1767439800@friendsanbg.org.au
SUMMARY:Black Mountain Weeding Work Party
DESCRIPTION:Details of our next weeding work party are: \nDate: Saturday\, 3 January 2025\, 8:30 to 11:30am\nMeet: in the bottom row of the Southern Carpark ANBG.\n(When you come through the main gate to the ANBG\, turn left immediately and park in the bottom row. If you are not already a member of the Friends of ANBG\, a temporary parking permit will be arranged for you.)\n \nBring:  water\, and another friend as everyone is welcome.\nWear:  hat\, sunscreen\, long-sleeved shirt\, long pants\, gloves\, stout shoes. \nWe shall break for delicious morning tea at about 10:00am \nPlease book: if you are planning to come\, please let us know by using this booking link: https://www.trybooking.com/DIFKN \nThis helps us to let you know if arrangements need to change at the last minute (for example\, adverse weather conditions). \nIf you need further information\, please contact Linda by phone 0437 298 711. \nWe look forward to seeing you at our next weeding work party. \nLinda Beveridge\nFriends of Black Mountain
URL:https://friendsanbg.org.au/event/black-mountain-weeding-work-party-2/
LOCATION:Lower level ANBG Carpark\, Clunies Ross Street\, Acton\, ACT\, 2601\, Australia
CATEGORIES:Weeding
ATTACH;FMTTYPE=image/jpeg:https://friendsanbg.org.au/wp-content/uploads/2026/03/Adding-to-the-piles-LJB-scaled-e1747046664655.jpg
ORGANIZER;CN="Friends of Black Mountain":MAILTO:friendsofblackmountain@gmail.com
END:VEVENT
END:VCALENDAR