BEGIN:VCALENDAR
VERSION:2.0
PRODID:-//Friends of the Australian National Botanic Gardens - ECPv6.15.20//NONSGML v1.0//EN
CALSCALE:GREGORIAN
METHOD:PUBLISH
X-WR-CALNAME:Friends of the Australian National Botanic Gardens
X-ORIGINAL-URL:https://friendsanbg.org.au
X-WR-CALDESC:Events for Friends of the Australian National Botanic Gardens
REFRESH-INTERVAL;VALUE=DURATION:PT1H
X-Robots-Tag:noindex
X-PUBLISHED-TTL:PT1H
BEGIN:VTIMEZONE
TZID:Australia/Canberra
BEGIN:STANDARD
TZOFFSETFROM:+1100
TZOFFSETTO:+1000
TZNAME:AEST
DTSTART:20240406T160000
END:STANDARD
BEGIN:DAYLIGHT
TZOFFSETFROM:+1000
TZOFFSETTO:+1100
TZNAME:AEDT
DTSTART:20241005T160000
END:DAYLIGHT
BEGIN:STANDARD
TZOFFSETFROM:+1100
TZOFFSETTO:+1000
TZNAME:AEST
DTSTART:20250405T160000
END:STANDARD
BEGIN:DAYLIGHT
TZOFFSETFROM:+1000
TZOFFSETTO:+1100
TZNAME:AEDT
DTSTART:20251004T160000
END:DAYLIGHT
BEGIN:STANDARD
TZOFFSETFROM:+1100
TZOFFSETTO:+1000
TZNAME:AEST
DTSTART:20260404T160000
END:STANDARD
BEGIN:DAYLIGHT
TZOFFSETFROM:+1000
TZOFFSETTO:+1100
TZNAME:AEDT
DTSTART:20261003T160000
END:DAYLIGHT
END:VTIMEZONE
BEGIN:VTIMEZONE
TZID:Australia/Sydney
BEGIN:STANDARD
TZOFFSETFROM:+1100
TZOFFSETTO:+1000
TZNAME:AEST
DTSTART:20240406T160000
END:STANDARD
BEGIN:DAYLIGHT
TZOFFSETFROM:+1000
TZOFFSETTO:+1100
TZNAME:AEDT
DTSTART:20241005T160000
END:DAYLIGHT
BEGIN:STANDARD
TZOFFSETFROM:+1100
TZOFFSETTO:+1000
TZNAME:AEST
DTSTART:20250405T160000
END:STANDARD
BEGIN:DAYLIGHT
TZOFFSETFROM:+1000
TZOFFSETTO:+1100
TZNAME:AEDT
DTSTART:20251004T160000
END:DAYLIGHT
BEGIN:STANDARD
TZOFFSETFROM:+1100
TZOFFSETTO:+1000
TZNAME:AEST
DTSTART:20260404T160000
END:STANDARD
BEGIN:DAYLIGHT
TZOFFSETFROM:+1000
TZOFFSETTO:+1100
TZNAME:AEDT
DTSTART:20261003T160000
END:DAYLIGHT
END:VTIMEZONE
BEGIN:VEVENT
DTSTART;TZID=Australia/Canberra:20251009T123000
DTEND;TZID=Australia/Canberra:20251009T133000
DTSTAMP:20260425T203336
CREATED:20251009T013000Z
LAST-MODIFIED:20260210T010107Z
UID:10001369-1760013000-1760016600@friendsanbg.org.au
SUMMARY:Bill Waterhouse ‘Wombat rescue at Major’s Creek’
DESCRIPTION:Bill and his wife rescue injured wombats\, especially pouch pinkies\, in facilities that they developed at Major’s Creek especially for growing and rewilding them. \nBiography\n	Bill is a retired Deputy Principal and bush band musician who continues to teaches music to primary school students. He is also Queanbeyan/Palerang Councillor. \nBooking Link: https://www.trybooking.com/DDEFO \nBooking\n	Lunchtime talks are held at 12.30 pm every Thursday from February to November. Talks last for 1 hour. We welcome donations by gold coins\, notes\, or electronically. The Friends use donations received at each talk to support Gardens’ programs and development and we thank all those who have donated.  \nUnless otherwise indicated\, talks are held in the ANBG Theatrette. \nIt is a good idea to reserve a seat at the talks that you wish to attend; talks may be booked out very quickly.  Bookings can be made from about 30 days in advance until the night before the talk or until seating limits are reached.  \nBooking Link: https://www.trybooking.com/DDEFO \nThe Friends of the ANBG thank the speakers who volunteer their time and talents to further the knowledge of all attending events in the Gardens. Many summaries or PowerPoint presentations of Thursday talks are available to Friends at the ANBG library. Please direct queries about the talks to the Thursday Talks Team: email talks@friendsanbg.org.au. \n 
URL:https://friendsanbg.org.au/event/bill-waterhouse-wombat-rescue-at-majors-creek/
LOCATION:ACT
END:VEVENT
BEGIN:VEVENT
DTSTART;TZID=Australia/Sydney:20251009T123000
DTEND;TZID=Australia/Sydney:20251009T133000
DTSTAMP:20260425T203336
CREATED:20260302T012215Z
LAST-MODIFIED:20260302T012215Z
UID:10001397-1760013000-1760016600@friendsanbg.org.au
SUMMARY:Bill Waterhouse – ‘Wombat rescue at Major’s Creek’
DESCRIPTION:Bill and his wife rescue injured wombats\, especially pouch pinkies\, in facilities that they developed at Major’s Creek especially for growing and rewilding them. \nBiography \nBill is a retired Deputy Principal and bush band musician who continues to teaches music to primary school students. He is also Queanbeyan/Palerang Councillor. \nBookings open on 5 September at https://www.trybooking.com/DDEFO \nBooking\nLunchtime talks are held at 12.30 pm every Thursday from February to November. Talks last for 1 hour. We welcome donations by gold coins\, notes\, or electronically. The Friends use donations received at each talk to support Gardens’ programs and development and we thank all those who have donated. \nUnless otherwise indicated\, talks are held in the ANBG Theatrette. \nIt is a good idea to reserve a seat at the talks that you wish to attend; talks may be booked out very quickly.  Bookings can be made from about 30 days in advance until the night before the talk or until seating limits are reached. \nThe Friends of the ANBG thank the speakers who volunteer their time and talents to further the knowledge of all attending events in the Gardens. Many summaries or PowerPoint presentations of Thursday talks are available to Friends at the ANBG library. Please direct queries about the talks to the Thursday Talks Team: email talks@friendsanbg.org.au.
URL:https://friendsanbg.org.au/event/bill-waterhouse-wombat-rescue-at-majors-creek-2/
LOCATION:ANBG Theatrette\, Clunies Ross Street Acton ACT 2601\, Canberra\, ACT\, 2601\, Australia
CATEGORIES:Thursday Talks
END:VEVENT
BEGIN:VEVENT
DTSTART;TZID=Australia/Canberra:20251011T093000
DTEND;TZID=Australia/Canberra:20251011T120000
DTSTAMP:20260425T203336
CREATED:20251010T223000Z
LAST-MODIFIED:20260210T010107Z
UID:10001370-1760175000-1760184000@friendsanbg.org.au
SUMMARY:54th Black Mountain spring wildflower ramble [FULLY BOOKED]
DESCRIPTION:Celebrate the spring flowering on beautiful Black Mountain with a social ramble appreciating wildflowers in the tradition established by Nancy Burbidge\, continued by George Chippendale\, and then Jean Geue. Discover the surprising diversity of tiny orchids\, bush peas\, wattles and billy buttons on easy bush tracks with experienced guides and good company. All springs are not the same. The pattern remains but timing and abundance vary with the weather; after the weather we have had this year we are anticipating a special display of flowers. Friends of Black Mountain welcomes everyone\, be they experts or those who have never slowed down to see the somewhat cryptic diversity. We plan several guides\, with helpers\, who will take different directions. \nPlease allow time to park and walk to the meeting point.  \nThere will be some books for cash sale\, including Black Mountain a natural history of a Canberra icon by Ian Fraser and Rosemary Purdie. \nMeet at Belconnen Way entry just before Caswell Drive turnoff – watch for balloons or banners\nBYO morning tea\, water\, hat\, sunblock and stout shoes. \nBOOKING ESSENTIAL to ensure we have enough guides. Please use this booking link: https://www.trybooking.com/DEWYB  [FULLY BOOKED]\n	This will help us to contact you if changes are needed at short notice (e.g. bad weather).\n	If you have problems with that link\, email names\, addresses\, and mobile phone numbers of each person you book to friendsofblackmountain@gmail.com \nLinda Beveridge\n	Convenor\, Friends of Black Mountain 
URL:https://friendsanbg.org.au/event/54th-black-mountain-spring-wildflower-ramble-fully-booked/
LOCATION:ACT
END:VEVENT
BEGIN:VEVENT
DTSTART;TZID=Australia/Sydney:20251011T093000
DTEND;TZID=Australia/Sydney:20251011T120000
DTSTAMP:20260425T203336
CREATED:20260302T012227Z
LAST-MODIFIED:20260302T012228Z
UID:10001398-1760175000-1760184000@friendsanbg.org.au
SUMMARY:54th Black Mountain spring wildflower ramble
DESCRIPTION:Celebrate the spring flowering on beautiful Black Mountain with a social ramble appreciating wildflowers in the tradition established by Nancy Burbidge\, continued by George Chippendale\, and then Jean Geue. Discover the surprising diversity of tiny orchids\, bush peas\, wattles and billy buttons on easy bush tracks with experienced guides and good company. All springs are not the same. The pattern remains but timing and abundance vary with the weather; after the weather we have had this year we are anticipating a special display of flowers. Friends of Black Mountain welcomes everyone\, be they experts or those who have never slowed down to see the somewhat cryptic diversity. We plan several guides\, with helpers\, who will take different directions. \nPlease allow time to park and walk to the meeting point.  \nThere will be some books for cash sale\, including Black Mountain a natural history of a Canberra icon by Ian Fraser and Rosemary Purdie. \nMeet at Belconnen Way entry just before Caswell Drive turnoff – watch for balloons or banners\nBYO morning tea\, water\, hat\, sunblock and stout shoes. \nBOOKING ESSENTIAL to ensure we have enough guides. Please use this booking link: https://www.trybooking.com/DEWYB\nThis will help us to contact you if changes are needed at short notice (e.g. bad weather).\nIf you have problems with that link\, email names\, addresses\, and mobile phone numbers of each person you book to friendsofblackmountain@gmail.com \nLinda Beveridge\nConvenor\, Friends of Black Mountain
URL:https://friendsanbg.org.au/event/54th-black-mountain-spring-wildflower-ramble/
LOCATION:Belconnen Way entry just before Caswell Drive turnoff – watch for balloons or banners\, Belconnen Way entry just before Caswell Drive turnoff\, Canberra\, ACT\, 2601\, Australia
CATEGORIES:Rambles
ATTACH;FMTTYPE=image/jpeg:https://friendsanbg.org.au/wp-content/uploads/2026/03/IMG_6941-LJB-crop-scaled-e1753504578240.jpg
ORGANIZER;CN="Friends of Black Mountain":MAILTO:friendsofblackmountain@gmail.com
END:VEVENT
BEGIN:VEVENT
DTSTART;TZID=Australia/Sydney:20251011T100000
DTEND;TZID=Australia/Sydney:20251011T160000
DTSTAMP:20260425T203336
CREATED:20260302T013220Z
LAST-MODIFIED:20260302T013221Z
UID:10001399-1760176800-1760198400@friendsanbg.org.au
SUMMARY:Photography Group Macro Photography Workshop
DESCRIPTION:Graham Gall will lead a macro photography workshop on Saturday 11 October. It will cover both theory and practice and will run from around 10.00 am until 4.00 pm in the Celia Rosser room and surrounding gardens. \nGraham is a highly professional photographer who has extensive experience in capturing stunning images of native Australian fauna and flora. \nParticipation is free for Photography Group members. No booking required.
URL:https://friendsanbg.org.au/event/photography-group-macro-photography-workshop-2/
LOCATION:Celia Rosser Room\, Banksia Centre\, Australian National Botanical Gardens\, Canberra\, Australia
CATEGORIES:Workshop
ATTACH;FMTTYPE=image/jpeg:https://friendsanbg.org.au/wp-content/uploads/2026/03/PDFFF4.jpeg
ORGANIZER;CN="Friends Photographic Group":MAILTO:photo@friendsanbg.org.au
END:VEVENT
END:VCALENDAR