BEGIN:VCALENDAR
VERSION:2.0
PRODID:-//Friends of the Australian National Botanic Gardens - ECPv6.15.20//NONSGML v1.0//EN
CALSCALE:GREGORIAN
METHOD:PUBLISH
X-ORIGINAL-URL:https://friendsanbg.org.au
X-WR-CALDESC:Events for Friends of the Australian National Botanic Gardens
REFRESH-INTERVAL;VALUE=DURATION:PT1H
X-Robots-Tag:noindex
X-PUBLISHED-TTL:PT1H
BEGIN:VTIMEZONE
TZID:Australia/Sydney
BEGIN:STANDARD
TZOFFSETFROM:+1100
TZOFFSETTO:+1000
TZNAME:AEST
DTSTART:20240406T160000
END:STANDARD
BEGIN:DAYLIGHT
TZOFFSETFROM:+1000
TZOFFSETTO:+1100
TZNAME:AEDT
DTSTART:20241005T160000
END:DAYLIGHT
BEGIN:STANDARD
TZOFFSETFROM:+1100
TZOFFSETTO:+1000
TZNAME:AEST
DTSTART:20250405T160000
END:STANDARD
BEGIN:DAYLIGHT
TZOFFSETFROM:+1000
TZOFFSETTO:+1100
TZNAME:AEDT
DTSTART:20251004T160000
END:DAYLIGHT
BEGIN:STANDARD
TZOFFSETFROM:+1100
TZOFFSETTO:+1000
TZNAME:AEST
DTSTART:20260404T160000
END:STANDARD
BEGIN:DAYLIGHT
TZOFFSETFROM:+1000
TZOFFSETTO:+1100
TZNAME:AEDT
DTSTART:20261003T160000
END:DAYLIGHT
END:VTIMEZONE
BEGIN:VEVENT
DTSTART;TZID=Australia/Sydney:20251023T123000
DTEND;TZID=Australia/Sydney:20251023T133000
DTSTAMP:20260424T071754
CREATED:20260302T013314Z
LAST-MODIFIED:20260302T013315Z
UID:10001403-1761222600-1761226200@friendsanbg.org.au
SUMMARY:Shelley Rowntree – ‘Unpicking the complexity of Chrysocephalum (Gnaphalieae\, Asteraceae)’
DESCRIPTION:Shelley\, PhD candidate at the UNE and a holder of a Friends ANBG scholarship\, will discuss the species limits and the dominant processes affecting the breeding and conservation of the Chrysocephalum genus. \nAbstract \nShelley will look at questions about the Chrysocephalum genus\, the limits of its species\, and dominant processes affecting the breeding and conservation of Chrysocephalum. \nThe Gnaphalieae (paper daisy tribe\, Asteraceae) are the largest tribe of Asteraceae in Australia\, with c. 500 species. Relationships within clades remain unresolved\, and generic concepts are often based on few morphological characters rather than demonstrated relatedness and inference of synapomorphies. \nChrysocephalum Walp is a medium-sized genus in the Australian Gnaphalieae occurring across all states of Australia. The project aims to answer the questions: (1) Does Chrysocephalum represent a cohesive genus? What is its relationship with other genera? (2) What are the limits of species within Chrysocephalum? What evolutionary processes explain the morphological complexity of the genus in eastern Australia? (3) What are the dominant processes affecting the breeding and conservation of Chrysocephalum? \nBiography \nShelley Rowntree is a holder of a Friends ANBG scholarship and is now doing a PhD at the University of New England\, Armidale\, in collaboration with Centre of Australian National Botanic Research (CANBR). \nShelley left behind a career in IT to pursue her passion for plants. Her interests include the systematics and evolution of flowering plants\, especially Asteraceae (daisy family) and Cyperaceae (sedges). She is passionate about documenting biodiversity and uses DNA sequence data and morphology to help make sense of diverse plant groups and evolutionary processes. \nBookings open on 19 September at https://www.trybooking.com/DDEFQ \nBooking\nLunchtime talks are held at 12.30 pm every Thursday from February to November. Talks last for 1 hour. We welcome donations by gold coins\, notes\, or electronically. The Friends use donations received at each talk to support Gardens’ programs and development and we thank all those who have donated. \nUnless otherwise indicated\, talks are held in the ANBG Theatrette. \nIt is a good idea to reserve a seat at the talks that you wish to attend; talks may be booked out very quickly.  Bookings can be made from about 30 days in advance until the night before the talk or until seating limits are reached. \nThe Friends of the ANBG thank the speakers who volunteer their time and talents to further the knowledge of all attending events in the Gardens. Many summaries or PowerPoint presentations of Thursday talks are available to Friends at the ANBG library. Please direct queries about the talks to the Thursday Talks Team: email talks@friendsanbg.org.au.
URL:https://friendsanbg.org.au/event/shelley-rowntree-unpicking-the-complexity-of-chrysocephalum-gnaphalieae-asteraceae-2/
LOCATION:ANBG Theatrette\, Clunies Ross Street Acton ACT 2601\, Canberra\, ACT\, 2601\, Australia
CATEGORIES:Thursday Talks
ATTACH;FMTTYPE=image/jpeg:https://friendsanbg.org.au/wp-content/uploads/2026/03/Rowntree-PC052221_small-e1751078221136.jpg
END:VEVENT
BEGIN:VEVENT
DTSTART;TZID=Australia/Sydney:20251025T090000
DTEND;TZID=Australia/Sydney:20251025T233000
DTSTAMP:20260424T071754
CREATED:20260302T013323Z
LAST-MODIFIED:20260302T013324Z
UID:10001404-1761382800-1761435000@friendsanbg.org.au
SUMMARY:Growing Friends Spring 2025 Native Plant Sale – Exclusive Event for Friends\, Staff and Volunteers
DESCRIPTION:Friends\, Staff and Volunteers of the ANBG will have exclusive access to hundreds of plants from a large variety of groundcovers to familiar or unusual large and small shrubs.  A limited number of ferns will also be for sale. \nAll plants are propagated from cuttings or seeds sourced from within the Gardens\, and a full list of plants is available HERE. \nPlants will cost  $6 a pot.  All proceeds go to the Friends to support the Gardens. Sales by card only. \nThe sale will take place in the Growing Friends Area\, off the Banksia Centre carpark.
URL:https://friendsanbg.org.au/event/growing-friends-spring-2025-native-plant-sale-exclusive-event-for-friends-staff-and-volunteers-2/
LOCATION:Banksia Centre Car Park\, Australian National Botanic Gardens\, Canberra\, Australian Capital Territory\, Australia
CATEGORIES:Plant Sale
ATTACH;FMTTYPE=image/jpeg:https://friendsanbg.org.au/wp-content/uploads/2026/03/Plant-Sale-Nov-2012_2-copy-scaled-1.jpg
END:VEVENT
BEGIN:VEVENT
DTSTART;TZID=Australia/Sydney:20251025T100000
DTEND;TZID=Australia/Sydney:20251025T110000
DTSTAMP:20260424T071754
CREATED:20260302T013334Z
LAST-MODIFIED:20260302T013335Z
UID:10001405-1761386400-1761390000@friendsanbg.org.au
SUMMARY:Gardening across the Generations
DESCRIPTION:The upcoming Canberra Writers Festival will feature a dedicated gardening panel this year\, Saturday 25 October.  There will be a plant swap on site. Details HERE. \nLocation: Patrick White Lawns \nGardening connects us to the land\, to our food\, and to one another. This panel explores gardening across generations and families\, communities and ecosystems. Anna Matilda (Everyday Permaculture: Sustainable Living for Every Space)\, Chloe Foster (The Rookie Gardener) and Judy Friedlander (The Bee Squad: Boosting Biodiversity in your Neighbourhood) will explore how gardening can be passed down\, reimagined and shared. From beginners planting their first seedling\, to building thriving pollinator-friendly biodiverse homes and balconies\, to experienced growers designing with permaculture in mind. Join this interactive session full of heart and wonder for our natural world. Moderated by ABC Canberra TV News anchor\, journalist and long-time garden lover\, Adrienne Francis. \nhttps://tickets.canberrawritersfestival.com.au/Events/Gardening-Across-the-Generations
URL:https://friendsanbg.org.au/event/gardening-across-the-generations-2/
LOCATION:Patrick White Terrace\, Canberra\, ACT\, Australia
CATEGORIES:Lecture
ATTACH;FMTTYPE=image/jpeg:https://friendsanbg.org.au/wp-content/uploads/2026/03/ABC-Gardening-Social-Tile_for-new-website.jpg
END:VEVENT
END:VCALENDAR