BEGIN:VCALENDAR
VERSION:2.0
PRODID:-//Friends of the Australian National Botanic Gardens - ECPv6.15.20//NONSGML v1.0//EN
CALSCALE:GREGORIAN
METHOD:PUBLISH
X-WR-CALNAME:Friends of the Australian National Botanic Gardens
X-ORIGINAL-URL:https://friendsanbg.org.au
X-WR-CALDESC:Events for Friends of the Australian National Botanic Gardens
REFRESH-INTERVAL;VALUE=DURATION:PT1H
X-Robots-Tag:noindex
X-PUBLISHED-TTL:PT1H
BEGIN:VTIMEZONE
TZID:Australia/Sydney
BEGIN:STANDARD
TZOFFSETFROM:+1100
TZOFFSETTO:+1000
TZNAME:AEST
DTSTART:20240406T160000
END:STANDARD
BEGIN:DAYLIGHT
TZOFFSETFROM:+1000
TZOFFSETTO:+1100
TZNAME:AEDT
DTSTART:20241005T160000
END:DAYLIGHT
BEGIN:STANDARD
TZOFFSETFROM:+1100
TZOFFSETTO:+1000
TZNAME:AEST
DTSTART:20250405T160000
END:STANDARD
BEGIN:DAYLIGHT
TZOFFSETFROM:+1000
TZOFFSETTO:+1100
TZNAME:AEDT
DTSTART:20251004T160000
END:DAYLIGHT
BEGIN:STANDARD
TZOFFSETFROM:+1100
TZOFFSETTO:+1000
TZNAME:AEST
DTSTART:20260404T160000
END:STANDARD
BEGIN:DAYLIGHT
TZOFFSETFROM:+1000
TZOFFSETTO:+1100
TZNAME:AEDT
DTSTART:20261003T160000
END:DAYLIGHT
END:VTIMEZONE
BEGIN:VEVENT
DTSTART;TZID=Australia/Sydney:20251106T123000
DTEND;TZID=Australia/Sydney:20251106T133000
DTSTAMP:20260423T181303
CREATED:20260302T013904Z
LAST-MODIFIED:20260302T013905Z
UID:10001442-1762432200-1762435800@friendsanbg.org.au
SUMMARY:Jay Nicholson – ‘Why do some plants die while others survive? Exploring the impacts of extreme drought in the Red Centre’
DESCRIPTION:Jay\, a PhD candidate at ANU and has a Friends ANBG scholarship\, works with Anangu\, the Traditional Owners at Uluru-Kata Tjuta National Park\, to work out why certain culturally important species are dying\, and what the future might be for Australia’s arid landscapes. \nAbstract \nAfter a record-breaking drought and heatwave in 2019\, many desert plant species experienced a mass mortality event. He will discuss the interesting spatial patterns in mortality he observed\, and how that links with plant measurements and environmental data. Come along to discover more about what the future looks like for Australia’s arid landscapes\, and maybe even learn some Pitjantjatjara (Aboriginal language spoken at Uluru). \nBiography \nJay Nicholson\, a PhD candidate at ANU and a holder of a Friends ANBG scholarship\, works with Pitjantjatjara and Yankunytjatjara people (Anangu) at Uluru-Kata Tjuta National Park.\nJay is passionate about hot and dry plants\, especially desert plants. After working as a botanist in Kakadu National Park and Arnhem Land\, he moved to Canberra to chase his scientific curiosities. \nBookings open on 3 October at https://www.trybooking.com/DDEFT \nBooking\nLunchtime talks are held at 12.30 pm every Thursday from February to November. Talks last for 1 hour. We welcome donations by gold coins\, notes\, or electronically. The Friends use donations received at each talk to support Gardens’ programs and development and we thank all those who have donated. \nUnless otherwise indicated\, talks are held in the ANBG Theatrette. \nIt is a good idea to reserve a seat at the talks that you wish to attend; talks may be booked out very quickly.  Bookings can be made from about 30 days in advance until the night before the talk or until seating limits are reached. \nThe Friends of the ANBG thank the speakers who volunteer their time and talents to further the knowledge of all attending events in the Gardens. Many summaries or PowerPoint presentations of Thursday talks are available to Friends at the ANBG library. Please direct queries about the talks to the Thursday Talks Team: email talks@friendsanbg.org.au.
URL:https://friendsanbg.org.au/event/jay-nicholson-why-do-some-plants-die-while-others-survive-exploring-the-impacts-of-extreme-drought-in-the-red-centre-2/
LOCATION:ANBG Theatrette\, Clunies Ross Street Acton ACT 2601\, Canberra\, ACT\, 2601\, Australia
CATEGORIES:Thursday Talks
ATTACH;FMTTYPE=image/jpeg:https://friendsanbg.org.au/wp-content/uploads/2026/03/Nicholson-Jay-conducting-fieldwork-at-Uluru-scaled-e1751079013459-1.jpg
END:VEVENT
END:VCALENDAR