BEGIN:VCALENDAR
VERSION:2.0
PRODID:-//Friends of the Australian National Botanic Gardens - ECPv6.15.20//NONSGML v1.0//EN
CALSCALE:GREGORIAN
METHOD:PUBLISH
X-WR-CALNAME:Friends of the Australian National Botanic Gardens
X-ORIGINAL-URL:https://friendsanbg.org.au
X-WR-CALDESC:Events for Friends of the Australian National Botanic Gardens
REFRESH-INTERVAL;VALUE=DURATION:PT1H
X-Robots-Tag:noindex
X-PUBLISHED-TTL:PT1H
BEGIN:VTIMEZONE
TZID:Australia/Canberra
BEGIN:STANDARD
TZOFFSETFROM:+1100
TZOFFSETTO:+1000
TZNAME:AEST
DTSTART:20240406T160000
END:STANDARD
BEGIN:DAYLIGHT
TZOFFSETFROM:+1000
TZOFFSETTO:+1100
TZNAME:AEDT
DTSTART:20241005T160000
END:DAYLIGHT
BEGIN:STANDARD
TZOFFSETFROM:+1100
TZOFFSETTO:+1000
TZNAME:AEST
DTSTART:20250405T160000
END:STANDARD
BEGIN:DAYLIGHT
TZOFFSETFROM:+1000
TZOFFSETTO:+1100
TZNAME:AEDT
DTSTART:20251004T160000
END:DAYLIGHT
BEGIN:STANDARD
TZOFFSETFROM:+1100
TZOFFSETTO:+1000
TZNAME:AEST
DTSTART:20260404T160000
END:STANDARD
BEGIN:DAYLIGHT
TZOFFSETFROM:+1000
TZOFFSETTO:+1100
TZNAME:AEDT
DTSTART:20261003T160000
END:DAYLIGHT
END:VTIMEZONE
BEGIN:VTIMEZONE
TZID:Australia/Sydney
BEGIN:STANDARD
TZOFFSETFROM:+1100
TZOFFSETTO:+1000
TZNAME:AEST
DTSTART:20240406T160000
END:STANDARD
BEGIN:DAYLIGHT
TZOFFSETFROM:+1000
TZOFFSETTO:+1100
TZNAME:AEDT
DTSTART:20241005T160000
END:DAYLIGHT
BEGIN:STANDARD
TZOFFSETFROM:+1100
TZOFFSETTO:+1000
TZNAME:AEST
DTSTART:20250405T160000
END:STANDARD
BEGIN:DAYLIGHT
TZOFFSETFROM:+1000
TZOFFSETTO:+1100
TZNAME:AEDT
DTSTART:20251004T160000
END:DAYLIGHT
BEGIN:STANDARD
TZOFFSETFROM:+1100
TZOFFSETTO:+1000
TZNAME:AEST
DTSTART:20260404T160000
END:STANDARD
BEGIN:DAYLIGHT
TZOFFSETFROM:+1000
TZOFFSETTO:+1100
TZNAME:AEDT
DTSTART:20261003T160000
END:DAYLIGHT
END:VTIMEZONE
BEGIN:VEVENT
DTSTART;TZID=Australia/Canberra:20251121T093000
DTEND;TZID=Australia/Canberra:20251214T163000
DTSTAMP:20260422T084424
CREATED:20251120T223000Z
LAST-MODIFIED:20260210T010107Z
UID:10001384-1763717400-1765729800@friendsanbg.org.au
SUMMARY:Illuminate '25 - annual Photo Group exhibition
DESCRIPTION:Illuminate ’25 will be the 12th annual exhibition by the Friends Photographic Group. \nThe exhibition features captivating photographs taken within the Gardens\, and of Australian fauna and flora in their natural environment. The works include plant portraits\, close-up shots of flowers\, birds and insects\, intimate landscapes within the Gardens\, and fauna from the Canberra region.  \n‘Illuminate’ has two meanings: one is about physical light\, and the other is about intellectual or spiritual enlightenment. The exhibition invites us to discover\, appreciate and value Australia’s unique flora and fauna. The Group aims to share their passion for discovering\, appreciating and valuing Australia’s unique flora and fauna as seen through the lenses of their cameras. \nThis year the special prize categories for entries will be ‘Australian Native Plants and Fungi’\, and ‘Fauna – of the ANBG’.  \nAll photographs on show are for sale – and they make great Christmas presents! Additional copies of some works can be ordered\, and other items for sale include unframed prints\, greeting cards\, and specialty calendars by individual members. The exhibition is in the Visitor Centre Gallery\, open daily from 9.30 am to 4.30 pm. Entry is free. \nThe exhibition will open with a special preview for Friends and ANBG staff on the evening of Thursday 20 November.  \n\n	Images by Simone Slater\, Natalie Aldridge\, and Paul Bainton
URL:https://friendsanbg.org.au/event/illuminate-25-annual-photo-group-exhibition/
LOCATION:ACT
END:VEVENT
BEGIN:VEVENT
DTSTART;TZID=Australia/Sydney:20251121T093000
DTEND;TZID=Australia/Sydney:20251214T163000
DTSTAMP:20260422T084424
CREATED:20260302T013414Z
LAST-MODIFIED:20260302T013415Z
UID:10001410-1763717400-1765729800@friendsanbg.org.au
SUMMARY:Illuminate ’25 – annual Photo Group exhibition
DESCRIPTION:Illuminate ’25 will be the 12th annual exhibition by the Friends Photographic Group. \nThe exhibition features captivating photographs taken within the Gardens\, and of Australian fauna and flora in their natural environment. The works include plant portraits\, close-up shots of flowers\, birds and insects\, intimate landscapes within the Gardens\, and fauna from the Canberra region. \n‘Illuminate’ has two meanings: one is about physical light\, and the other is about intellectual or spiritual enlightenment. The exhibition invites us to discover\, appreciate and value Australia’s unique flora and fauna. The Group aims to share their passion for discovering\, appreciating and valuing Australia’s unique flora and fauna as seen through the lenses of their cameras. \nThis year the special prize categories for entries will be ‘Australian Native Plants and Fungi’\, and ‘Fauna – of the ANBG’. \nAll photographs on show are for sale – and they make great Christmas presents! Additional copies of some works can be ordered\, and other items for sale include unframed prints\, greeting cards\, and specialty calendars by individual members. The exhibition is in the Visitor Centre Gallery\, open daily from 9.30 am to 4.30 pm. Entry is free. \nThe exhibition will open with a special preview for Friends and ANBG staff on the evening of Thursday 20 November.
URL:https://friendsanbg.org.au/event/illuminate-25-annual-photo-group-exhibition-2/
LOCATION:Visitor Centre Gallery\, Australian National Botanic Gardens\, Canberra\, ACT\, 2601\, Australia
CATEGORIES:Exhibition
ATTACH;FMTTYPE=image/jpeg:https://friendsanbg.org.au/wp-content/uploads/2026/03/202511_NA_Isotropis-centralis.jpg
END:VEVENT
BEGIN:VEVENT
DTSTART;TZID=Australia/Sydney:20251213T084000
DTEND;TZID=Australia/Sydney:20251213T103000
DTSTAMP:20260422T084424
CREATED:20260302T013436Z
LAST-MODIFIED:20260302T013437Z
UID:10001414-1765615200-1765621800@friendsanbg.org.au
SUMMARY:Cameras and Cafe Walk
DESCRIPTION:Join members of the Photographic Group for a stimulating and friendly photo walk. \nMeet at the bus stop at 8.40 am. We then disperse\, either individually or in groups\, to capture in images the beauty (and sometimes the beasties) that make the Gardens such a special place. We get back together for a chat and a snack at Pollen Cafe at around 10.30 am. \nA member of the Friends of ANBG Photographic Group Committee is always present to help with introductions and be a source of expertise and advice. Any level of photographic knowledge and equipment is most welcome.
URL:https://friendsanbg.org.au/event/cameras-and-cafe-walk-2-2/
LOCATION:ANBG Bus Stop\, Australian National Botanic Gardens\, Canberra\, Australia
CATEGORIES:Walk
ATTACH;FMTTYPE=image/jpeg:https://friendsanbg.org.au/wp-content/uploads/2026/03/Steven_Playford_Macleays_Swallowtail_on_Pimelea_ferruginea-scaled-1.jpg
ORGANIZER;CN="Friends Photographic Group":MAILTO:photo@friendsanbg.org.au
END:VEVENT
END:VCALENDAR