BEGIN:VCALENDAR
VERSION:2.0
PRODID:-//Friends of the Australian National Botanic Gardens - ECPv6.15.20//NONSGML v1.0//EN
CALSCALE:GREGORIAN
METHOD:PUBLISH
X-ORIGINAL-URL:https://friendsanbg.org.au
X-WR-CALDESC:Events for Friends of the Australian National Botanic Gardens
REFRESH-INTERVAL;VALUE=DURATION:PT1H
X-Robots-Tag:noindex
X-PUBLISHED-TTL:PT1H
BEGIN:VTIMEZONE
TZID:Australia/Sydney
BEGIN:STANDARD
TZOFFSETFROM:+1100
TZOFFSETTO:+1000
TZNAME:AEST
DTSTART:20240406T160000
END:STANDARD
BEGIN:DAYLIGHT
TZOFFSETFROM:+1000
TZOFFSETTO:+1100
TZNAME:AEDT
DTSTART:20241005T160000
END:DAYLIGHT
BEGIN:STANDARD
TZOFFSETFROM:+1100
TZOFFSETTO:+1000
TZNAME:AEST
DTSTART:20250405T160000
END:STANDARD
BEGIN:DAYLIGHT
TZOFFSETFROM:+1000
TZOFFSETTO:+1100
TZNAME:AEDT
DTSTART:20251004T160000
END:DAYLIGHT
BEGIN:STANDARD
TZOFFSETFROM:+1100
TZOFFSETTO:+1000
TZNAME:AEST
DTSTART:20260404T160000
END:STANDARD
BEGIN:DAYLIGHT
TZOFFSETFROM:+1000
TZOFFSETTO:+1100
TZNAME:AEDT
DTSTART:20261003T160000
END:DAYLIGHT
END:VTIMEZONE
BEGIN:VEVENT
DTSTART;TZID=Australia/Sydney:20251013T133000
DTEND;TZID=Australia/Sydney:20251013T153000
DTSTAMP:20260423T124431
CREATED:20260302T013256Z
LAST-MODIFIED:20260302T013256Z
UID:10001400-1760362200-1760369400@friendsanbg.org.au
SUMMARY:Plant Recognition Group Workshop – Visit to the STEP garden
DESCRIPTION:The next Plant Recognition Group workshop will be a bit different as we will visit the Southern Tablelands Ecosystems Park (Forest 20) at the National Arboretum\, which grows different species of eucalypt trees\, shrubs\, herbs and grasses typically found in the Southern Tablelands region of New South Wales and the ACT. We will be looking in particular at the Fabaceae or pea species that have been planted here. \nWe are fortunate that Bill Handke\, Committee Member of STEP and Member of the Pea Flower Study Group of the Australian Native Plant Society (or PeaNuts) has kindly agreed to show us around. \nHand lenses will be available but please bring your own if you have one. \nWhen: Monday 13 October 13.30 – 15.30. \nWhere: Meet at the entrance to the STEP Garden at the bottom of the main carpark at the Arboretum at 13.25. \nBookings ESSENTIAL: Please send your name and phone number to plantname@friendsanbg.org.au  We will be able to accommodate a slightly larger group for this visit but need to know who will be attending. \nPlease advise at least a day in advance if you need to cancel your booking\, so that a member on the waiting list can be offered the place.
URL:https://friendsanbg.org.au/event/plant-recognition-group-workshop-visit-to-the-step-garden-2/
LOCATION:STEP entrance
CATEGORIES:Workshop
ATTACH;FMTTYPE=image/png:https://friendsanbg.org.au/wp-content/uploads/2026/03/STEP2-e1753867104482.png
END:VEVENT
END:VCALENDAR